BEGIN:VCALENDAR
VERSION:2.0
PRODID:-//PYVOBJECT//NONSGML Version 1//EN
BEGIN:VTIMEZONE
TZID:US/East
BEGIN:STANDARD
DTSTART:16011104T020000
RRULE:FREQ=YEARLY;BYDAY=1SU;BYMONTH=11
TZOFFSETFROM:-0400
TZOFFSETTO:-0500
END:STANDARD
BEGIN:DAYLIGHT
DTSTART:16010311T020000
RRULE:FREQ=YEARLY;BYDAY=2SU;BYMONTH=3
TZOFFSETFROM:-0500
TZOFFSETTO:-0400
END:DAYLIGHT
END:VTIMEZONE
BEGIN:VEVENT
UID:Event409664@naturalresources.house.gov
DTSTART;TZID=US/East:20210506T110000
DTEND;TZID=US/East:20210506T130000
DESCRIPTION:Full Committee Oversight Hearing | Member Day\n\nEvent details at http://naturalresources.house.gov/Calendar/EventSingle.aspx?EventID=409664
LOCATION:
SUMMARY:Full Committee Oversight Hearing | Member Day
END:VEVENT
END:VCALENDAR
